BEGIN:VCALENDAR
VERSION:2.0
PRODID:-//Stop 61 Warehouses - ECPv6.15.11//NONSGML v1.0//EN
CALSCALE:GREGORIAN
METHOD:PUBLISH
X-WR-CALNAME:Stop 61 Warehouses
X-ORIGINAL-URL:https://stop61warehouses.com
X-WR-CALDESC:Events for Stop 61 Warehouses
REFRESH-INTERVAL;VALUE=DURATION:PT1H
X-Robots-Tag:noindex
X-PUBLISHED-TTL:PT1H
BEGIN:VTIMEZONE
TZID:America/New_York
BEGIN:DAYLIGHT
TZOFFSETFROM:-0500
TZOFFSETTO:-0400
TZNAME:EDT
DTSTART:20230312T070000
END:DAYLIGHT
BEGIN:STANDARD
TZOFFSETFROM:-0400
TZOFFSETTO:-0500
TZNAME:EST
DTSTART:20231105T060000
END:STANDARD
BEGIN:DAYLIGHT
TZOFFSETFROM:-0500
TZOFFSETTO:-0400
TZNAME:EDT
DTSTART:20240310T070000
END:DAYLIGHT
BEGIN:STANDARD
TZOFFSETFROM:-0400
TZOFFSETTO:-0500
TZNAME:EST
DTSTART:20241103T060000
END:STANDARD
BEGIN:DAYLIGHT
TZOFFSETFROM:-0500
TZOFFSETTO:-0400
TZNAME:EDT
DTSTART:20250309T070000
END:DAYLIGHT
BEGIN:STANDARD
TZOFFSETFROM:-0400
TZOFFSETTO:-0500
TZNAME:EST
DTSTART:20251102T060000
END:STANDARD
BEGIN:DAYLIGHT
TZOFFSETFROM:-0500
TZOFFSETTO:-0400
TZNAME:EDT
DTSTART:20260308T070000
END:DAYLIGHT
BEGIN:STANDARD
TZOFFSETFROM:-0400
TZOFFSETTO:-0500
TZNAME:EST
DTSTART:20261101T060000
END:STANDARD
END:VTIMEZONE
BEGIN:VEVENT
DTSTART;TZID=America/New_York:20250619T180000
DTEND;TZID=America/New_York:20250619T200000
DTSTAMP:20260420T134356
CREATED:20250124T070621Z
LAST-MODIFIED:20250124T070621Z
UID:1453-1750356000-1750363200@stop61warehouses.com
SUMMARY:Planning Commission Meeting
DESCRIPTION:
URL:https://stop61warehouses.com/event/planning-commission-2025-06-19/
LOCATION:North Manheim Township Office\, 303 Manheim Road\, Pottsville\, PA\, 17901\, United States
CATEGORIES:Planning Commission,Township Meeting
ATTACH;FMTTYPE=image/jpeg:https://stop61warehouses.com/wp-content/uploads/2024/11/planning-square.jpg
END:VEVENT
BEGIN:VEVENT
DTSTART;TZID=America/New_York:20250603T190000
DTEND;TZID=America/New_York:20250603T210000
DTSTAMP:20260420T134356
CREATED:20241213T204241Z
LAST-MODIFIED:20241213T204241Z
UID:1298-1748977200-1748984400@stop61warehouses.com
SUMMARY:Board of Supervisors Meeting
DESCRIPTION:
URL:https://stop61warehouses.com/event/board-of-supervisors-2025-06-03/
LOCATION:North Manheim Township Office\, 303 Manheim Road\, Pottsville\, PA\, 17901\, United States
CATEGORIES:Board of Supervisors,Township Meeting
ATTACH;FMTTYPE=image/jpeg:https://stop61warehouses.com/wp-content/uploads/2024/11/township-square.jpg
END:VEVENT
BEGIN:VEVENT
DTSTART;TZID=America/New_York:20250515T180000
DTEND;TZID=America/New_York:20250515T200000
DTSTAMP:20260420T134356
CREATED:20250124T070550Z
LAST-MODIFIED:20250124T070550Z
UID:1451-1747332000-1747339200@stop61warehouses.com
SUMMARY:Planning Commission Meeting
DESCRIPTION:
URL:https://stop61warehouses.com/event/planning-commission-2025-05-15/
LOCATION:North Manheim Township Office\, 303 Manheim Road\, Pottsville\, PA\, 17901\, United States
CATEGORIES:Planning Commission,Township Meeting
ATTACH;FMTTYPE=image/jpeg:https://stop61warehouses.com/wp-content/uploads/2024/11/planning-square.jpg
END:VEVENT
BEGIN:VEVENT
DTSTART;TZID=America/New_York:20250507T190000
DTEND;TZID=America/New_York:20250507T210000
DTSTAMP:20260420T134356
CREATED:20241213T204201Z
LAST-MODIFIED:20241213T204201Z
UID:1296-1746644400-1746651600@stop61warehouses.com
SUMMARY:Board of Supervisors Meeting
DESCRIPTION:
URL:https://stop61warehouses.com/event/board-of-supervisors-2025-05-07/
LOCATION:North Manheim Township Office\, 303 Manheim Road\, Pottsville\, PA\, 17901\, United States
CATEGORIES:Board of Supervisors,Township Meeting
ATTACH;FMTTYPE=image/jpeg:https://stop61warehouses.com/wp-content/uploads/2024/11/township-square.jpg
END:VEVENT
BEGIN:VEVENT
DTSTART;TZID=America/New_York:20250417T180000
DTEND;TZID=America/New_York:20250417T200000
DTSTAMP:20260420T134356
CREATED:20250124T070509Z
LAST-MODIFIED:20250124T070509Z
UID:1449-1744912800-1744920000@stop61warehouses.com
SUMMARY:Planning Commission Meeting
DESCRIPTION:
URL:https://stop61warehouses.com/event/planning-commission-2025-04-17/
LOCATION:North Manheim Township Office\, 303 Manheim Road\, Pottsville\, PA\, 17901\, United States
CATEGORIES:Planning Commission,Township Meeting
ATTACH;FMTTYPE=image/jpeg:https://stop61warehouses.com/wp-content/uploads/2024/11/planning-square.jpg
END:VEVENT
BEGIN:VEVENT
DTSTART;TZID=America/New_York:20250401T190000
DTEND;TZID=America/New_York:20250401T210000
DTSTAMP:20260420T134356
CREATED:20241213T204131Z
LAST-MODIFIED:20241213T204131Z
UID:1294-1743534000-1743541200@stop61warehouses.com
SUMMARY:Board of Supervisors Meeting
DESCRIPTION:
URL:https://stop61warehouses.com/event/board-of-supervisors-2025-04-01/
LOCATION:North Manheim Township Office\, 303 Manheim Road\, Pottsville\, PA\, 17901\, United States
CATEGORIES:Board of Supervisors,Township Meeting
ATTACH;FMTTYPE=image/jpeg:https://stop61warehouses.com/wp-content/uploads/2024/11/township-square.jpg
END:VEVENT
BEGIN:VEVENT
DTSTART;TZID=America/New_York:20250320T180000
DTEND;TZID=America/New_York:20250320T200000
DTSTAMP:20260420T134356
CREATED:20250124T070427Z
LAST-MODIFIED:20250124T070427Z
UID:1447-1742493600-1742500800@stop61warehouses.com
SUMMARY:Planning Commission Meeting
DESCRIPTION:
URL:https://stop61warehouses.com/event/planning-commission-2025-03-20/
LOCATION:North Manheim Township Office\, 303 Manheim Road\, Pottsville\, PA\, 17901\, United States
CATEGORIES:Planning Commission,Township Meeting
ATTACH;FMTTYPE=image/jpeg:https://stop61warehouses.com/wp-content/uploads/2024/11/planning-square.jpg
END:VEVENT
BEGIN:VEVENT
DTSTART;TZID=America/New_York:20250304T190000
DTEND;TZID=America/New_York:20250304T210000
DTSTAMP:20260420T134356
CREATED:20241213T203943Z
LAST-MODIFIED:20241213T204052Z
UID:1292-1741114800-1741122000@stop61warehouses.com
SUMMARY:Board of Supervisors Meeting
DESCRIPTION:
URL:https://stop61warehouses.com/event/board-of-supervisors-2025-03-04/
LOCATION:North Manheim Township Office\, 303 Manheim Road\, Pottsville\, PA\, 17901\, United States
CATEGORIES:Board of Supervisors,Township Meeting
ATTACH;FMTTYPE=image/jpeg:https://stop61warehouses.com/wp-content/uploads/2024/11/township-square.jpg
END:VEVENT
BEGIN:VEVENT
DTSTART;TZID=America/New_York:20250220T180000
DTEND;TZID=America/New_York:20250220T200000
DTSTAMP:20260420T134356
CREATED:20250124T070343Z
LAST-MODIFIED:20250124T070343Z
UID:1445-1740074400-1740081600@stop61warehouses.com
SUMMARY:Planning Commission Meeting
DESCRIPTION:
URL:https://stop61warehouses.com/event/planning-commission-2025-02-20/
LOCATION:North Manheim Township Office\, 303 Manheim Road\, Pottsville\, PA\, 17901\, United States
CATEGORIES:Planning Commission,Township Meeting
ATTACH;FMTTYPE=image/jpeg:https://stop61warehouses.com/wp-content/uploads/2024/11/planning-square.jpg
END:VEVENT
BEGIN:VEVENT
DTSTART;TZID=America/New_York:20250204T190000
DTEND;TZID=America/New_York:20250204T210000
DTSTAMP:20260420T134356
CREATED:20241213T203915Z
LAST-MODIFIED:20241213T203915Z
UID:1290-1738695600-1738702800@stop61warehouses.com
SUMMARY:Board of Supervisors Meeting
DESCRIPTION:
URL:https://stop61warehouses.com/event/board-of-supervisors-2025-02-04/
LOCATION:North Manheim Township Office\, 303 Manheim Road\, Pottsville\, PA\, 17901\, United States
CATEGORIES:Board of Supervisors,Township Meeting
ATTACH;FMTTYPE=image/jpeg:https://stop61warehouses.com/wp-content/uploads/2024/11/township-square.jpg
END:VEVENT
BEGIN:VEVENT
DTSTART;TZID=America/New_York:20250116T180000
DTEND;TZID=America/New_York:20250116T200000
DTSTAMP:20260420T134356
CREATED:20250124T070151Z
LAST-MODIFIED:20250124T070248Z
UID:1443-1737050400-1737057600@stop61warehouses.com
SUMMARY:Planning Commission Meeting
DESCRIPTION:
URL:https://stop61warehouses.com/event/planning-commission-2025-01-16/
LOCATION:North Manheim Township Office\, 303 Manheim Road\, Pottsville\, PA\, 17901\, United States
CATEGORIES:Planning Commission,Township Meeting
ATTACH;FMTTYPE=image/jpeg:https://stop61warehouses.com/wp-content/uploads/2024/11/planning-square.jpg
END:VEVENT
BEGIN:VEVENT
DTSTART;TZID=America/New_York:20250106T090000
DTEND;TZID=America/New_York:20250106T110000
DTSTAMP:20260420T134356
CREATED:20241212T114810Z
LAST-MODIFIED:20241212T114855Z
UID:1242-1736154000-1736161200@stop61warehouses.com
SUMMARY:Board of Supervisors Meeting
DESCRIPTION:
URL:https://stop61warehouses.com/event/board-of-supervisors-2025-01-06/
LOCATION:North Manheim Township Office\, 303 Manheim Road\, Pottsville\, PA\, 17901\, United States
CATEGORIES:Board of Supervisors,Township Meeting
ATTACH;FMTTYPE=image/jpeg:https://stop61warehouses.com/wp-content/uploads/2024/11/township-square.jpg
END:VEVENT
BEGIN:VEVENT
DTSTART;TZID=America/New_York:20241219T180000
DTEND;TZID=America/New_York:20241219T200000
DTSTAMP:20260420T134356
CREATED:20241214T231352Z
LAST-MODIFIED:20241217T205050Z
UID:1385-1734631200-1734638400@stop61warehouses.com
SUMMARY:Planning Commission Meeting (Cancelled)
DESCRIPTION:This event has been cancelled. There were no items on the agenda.
URL:https://stop61warehouses.com/event/planning-commission-2024-12-19/
LOCATION:North Manheim Township Office\, 303 Manheim Road\, Pottsville\, PA\, 17901\, United States
CATEGORIES:Planning Commission,Township Meeting
ATTACH;FMTTYPE=image/jpeg:https://stop61warehouses.com/wp-content/uploads/2024/11/planning-square.jpg
END:VEVENT
END:VCALENDAR